BEGIN:VCALENDAR
VERSION:2.0
PRODID:-//Squarespace Inc/Squarespace 6//v6//EN
BEGIN:VEVENT
UID:53c5dec3e4b0fa582991f695@squarespace.com
DTSTAMP:20140716T021037Z
DTSTART:20140901T023000Z
DTEND:20141031T023000Z
SUMMARY:Peramangk - the indigenous heritage of the Adelaide Hills
END:VEVENT
END:VCALENDAR
