BEGIN:VCALENDAR
VERSION:2.0
PRODID:-//Squarespace Inc/Squarespace 6//v6//EN
BEGIN:VEVENT
UID:534cc3e9e4b04890ea89212a@squarespace.com
DTSTAMP:20140716T021103Z
DTSTART:20130918T060000Z
DTEND:20130925T070000Z
SUMMARY:SALA (South Australia Living Artist) Urban Scape By Steve Gollner
GEO:-35.030771;138.810941
LOCATION:SALA Event at Tineriba\, 77 Main St\, Hahndorf\, SA\, 5245\, Austr
 alia
END:VEVENT
END:VCALENDAR
